{"text_format":"3","workbook":"xlsx","n_sheets":2,"sheets":["终版","原始"],"not_rendered":{"external_links":2},"read":"whole","date_system":"1900"}

{"sheet":"终版","index":0,"n_rows":28,"n_cols":7,"rows_kept":28,"merged":[[1,0,1,6],[2,0,3,0],[2,1,3,1],[2,2,2,4],[2,5,3,5],[2,6,3,6],[27,0,27,1],[28,0,28,6]]}
["附件6:"]
["第八届中国国际“互联网+”大学生创新创业大赛各学院（所）参赛作品名额分配表"]
["序号","院系","主赛道作品数",null,null,"青年红色筑梦之旅赛道作品数","总计"]
[null,null,"本科生","研究生","合计"]
[1,"农 学 院",31,19,{"$f":"C5+D5","v":50},8,{"$f":"E5+F5","v":58}]
[2,"植保学院",29,14,{"$f":"C6+D6","v":43},8,{"$f":"E6+F6","v":51}]
[3,"园艺学院",33,16,49,8,57]
[4,"动科学院",32,16,48,8,56]
[5,"动医学院",31,15,46,8,54]
[6,"草业学院",15,8,23,6,29]
[7,"林 学 院",33,17,50,9,59]
[8,"园林学院",28,14,42,8,50]
[9,"资环学院",40,20,60,9,69]
[10,"水建学院",50,25,75,11,86]
[11,"机电学院",37,18,55,9,64]
[12,"信息学院",30,15,45,8,53]
[13,"食品学院",37,18,55,9,64]
[14,"葡酒学院",22,11,33,7,40]
[15,"生命学院",32,16,48,8,56]
[16,"理 学 院",16,8,24,6,30]
[17,"化药学院",21,10,31,7,38]
[18,"经管学院",46,23,69,10,79]
[19,"人文学院",31,15,46,8,54]
[20,"马克思主义学院",0,10,10,5,15]
[21,"语言学院",15,3,18,5,23]
[22,"创新学院",19,0,19,5,24]
[23,"水 保 所",0,10,10,5,15]
["总计",null,{"$f":"SUM(C5:C27)","v":628},{"$f":"SUM(D5:D27)","v":321},949,{"$f":"SUM(F5:F27)","v":175},{"$f":"SUM(G5:G27)","v":1124}]

{"sheet":"原始","index":1,"n_rows":26,"n_cols":11,"rows_kept":26,"hidden":true,"merged":[[1,0,1,7],[24,0,24,1],[25,0,25,7]]}
["附件3:"]
["西北农林科技大学第四届“互联网+”创新创业大赛\n参赛作品名额分配表"]
["序号","院系","本科生人数","研究生人数","合计","本科生\n项目数","研究生\n项目数","主赛道应参赛\n作品总数","本科生\n项目数","研究生\n项目数","青年红旅赛道应参赛作品数"]
[1,"农学院",{"$f":"[1]Sheet1!C3","v":710},{"$f":"[2]Sheet1!$J$15","v":565},{"$f":"SUM(C4:D4)","v":1275},{"$f":"CEILING(C4*0.020748323,1)","v":15},{"$f":"CEILING(D4*0.020748323,1)","v":12},{"$f":"F4+G4","v":27},{"v":3,"d":"3.00"},{"v":2,"d":"2.00"},{"$f":"I4+J4","v":{"v":5,"d":"5.00"}}]
[2,"植保学院",{"$f":"[1]Sheet1!C4","v":659},621,{"$f":"SUM(C5:D5)","v":1280},{"$f":"CEILING(C5*0.020748323,1)","v":14},{"$f":"CEILING(D5*0.020748323,1)","v":13},27,{"v":3,"d":"3.00"},{"v":3,"d":"3.00"},{"$f":"I5+J5","v":{"v":6,"d":"6.00"}}]
[3,"园艺学院",{"$f":"[1]Sheet1!C5","v":784},690,1474,17,15,32,{"v":4,"d":"4.00"},{"v":3,"d":"3.00"},{"v":7,"d":"7.00"}]
[4,"动科学院",805,591,1396,17,13,30,{"v":4,"d":"4.00"},{"v":3,"d":"3.00"},{"v":7,"d":"7.00"}]
[5,"动医学院",{"$f":"[1]Sheet1!C7","v":891},545,1436,19,12,31,{"v":2,"d":"2.00"},{"v":2,"d":"2.00"},{"v":4,"d":"4.00"}]
[6,"草业学院",189,72,{"$f":"C9+D9","v":261},2,1,3,{"v":1,"d":"1.00"},{"v":0,"d":"0.00"},{"v":1,"d":"1.00"}]
[7,"林学院",{"$f":"[1]Sheet1!C8","v":1081},472,{"$f":"C10+D10","v":1553},23,10,33,{"v":5,"d":"5.00"},{"v":2,"d":"2.00"},{"v":7,"d":"7.00"}]
[8,"园林学院",{"$f":"[1]Sheet1!C9","v":970},244,1214,21,6,27,{"v":4,"d":"4.00"},{"v":1,"d":"1.00"},{"v":5,"d":"5.00"}]
[9,"资环学院",{"$f":"[1]Sheet1!C10","v":1359},653,2012,29,14,43,{"v":6,"d":"6.00"},{"v":3,"d":"3.00"},{"v":9,"d":"9.00"}]
[10,"水建学院",{"$f":"[1]Sheet1!C11","v":2256},535,2791,47,12,59,{"v":9,"d":"9.00"},{"v":2,"d":"2.00"},{"v":11,"d":"11.00"}]
[11,"机电学院",{"$f":"[1]Sheet1!C12","v":1648},255,1903,35,6,41,{"v":7,"d":"7.00"},{"v":1,"d":"1.00"},{"v":8,"d":"8.00"}]
[12,"信息学院",{"$f":"[1]Sheet1!C13","v":1338},141,1479,27,3,30,{"v":6,"d":"6.00"},{"v":1,"d":"1.00"},{"v":7,"d":"7.00"}]
[13,"食品学院",{"$f":"[1]Sheet1!C14","v":1364},416,1780,29,9,38,{"v":6,"d":"6.00"},{"v":2,"d":"2.00"},{"v":8,"d":"8.00"}]
[14,"葡酒学院",{"$f":"[1]Sheet1!C15","v":561},101,662,12,3,15,{"v":2,"d":"2.00"},{"v":1,"d":"1.00"},{"v":3,"d":"3.00"}]
[15,"生命学院",{"$f":"[1]Sheet1!C16","v":1210},519,1729,26,11,37,{"v":5,"d":"5.00"},{"v":2,"d":"2.00"},{"v":7,"d":"7.00"}]
[16,"理学院",{"$f":"[1]Sheet1!C17","v":221},63,284,2,1,3,{"v":1,"d":"1.00"},{"v":0,"d":"0.00"},{"v":1,"d":"1.00"}]
[17,"化药学院",{"$f":"[1]Sheet1!C18","v":476},274,750,10,6,16,{"v":2,"d":"2.00"},{"v":1,"d":"1.00"},{"v":3,"d":"3.00"}]
[18,"经管学院",{"$f":"[1]Sheet1!C19","v":2451},686,3137,51,15,66,{"v":10,"d":"10.00"},{"v":3,"d":"3.00"},{"v":13,"d":"13.00"}]
[19,"人文学院",{"$f":"[1]Sheet1!C20","v":1077},445,1522,23,10,33,{"v":4,"d":"4.00"},{"v":2,"d":"2.00"},{"v":6,"d":"6.00"}]
[20,"外语",{"$f":"[1]Sheet1!C21","v":354},23,377,4,1,5,{"v":1,"d":"1.00"},{"v":0,"d":"0.00"},{"v":1,"d":"1.00"}]
[21,"创新学院",478,0,478,4,0,4,{"v":1,"d":"1.00"},{"$f":"D24*0.004149665","v":{"v":0,"d":"0.00"}},{"v":1,"d":"1.00"}]
["总计",null,{"$f":"SUM(C4:C24)","v":20882},{"$f":"SUM(D4:D24)","v":7911},28793,{"$f":"SUM(F4:F24)","v":427},173,600,{"v":86,"d":"86.00"},34,{"v":120,"d":"120.00"}]
["备注：各院系学生人数按照2017年9月统计数据为准。按照陕西省赛区工作安排，各单位参赛作品数量不少于学生总人数2%，其中研究生负责申报的作品不少于所有作品的30%。",{"$nulls":7},{"v":82,"d":"82.00"},33]